BEGIN:VCALENDAR
VERSION:2.0
PRODID:-//Lakeview Baptist Church - ECPv6.15.17//NONSGML v1.0//EN
CALSCALE:GREGORIAN
METHOD:PUBLISH
X-WR-CALNAME:Lakeview Baptist Church
X-ORIGINAL-URL:https://lakeviewdundee.com
X-WR-CALDESC:Events for Lakeview Baptist Church
REFRESH-INTERVAL;VALUE=DURATION:PT1H
X-Robots-Tag:noindex
X-PUBLISHED-TTL:PT1H
BEGIN:VTIMEZONE
TZID:America/New_York
BEGIN:DAYLIGHT
TZOFFSETFROM:-0500
TZOFFSETTO:-0400
TZNAME:EDT
DTSTART:20210314T070000
END:DAYLIGHT
BEGIN:STANDARD
TZOFFSETFROM:-0400
TZOFFSETTO:-0500
TZNAME:EST
DTSTART:20211107T060000
END:STANDARD
BEGIN:DAYLIGHT
TZOFFSETFROM:-0500
TZOFFSETTO:-0400
TZNAME:EDT
DTSTART:20220313T070000
END:DAYLIGHT
BEGIN:STANDARD
TZOFFSETFROM:-0400
TZOFFSETTO:-0500
TZNAME:EST
DTSTART:20221106T060000
END:STANDARD
BEGIN:DAYLIGHT
TZOFFSETFROM:-0500
TZOFFSETTO:-0400
TZNAME:EDT
DTSTART:20230312T070000
END:DAYLIGHT
BEGIN:STANDARD
TZOFFSETFROM:-0400
TZOFFSETTO:-0500
TZNAME:EST
DTSTART:20231105T060000
END:STANDARD
BEGIN:DAYLIGHT
TZOFFSETFROM:-0500
TZOFFSETTO:-0400
TZNAME:EDT
DTSTART:20240310T070000
END:DAYLIGHT
BEGIN:STANDARD
TZOFFSETFROM:-0400
TZOFFSETTO:-0500
TZNAME:EST
DTSTART:20241103T060000
END:STANDARD
BEGIN:DAYLIGHT
TZOFFSETFROM:-0500
TZOFFSETTO:-0400
TZNAME:EDT
DTSTART:20250309T070000
END:DAYLIGHT
BEGIN:STANDARD
TZOFFSETFROM:-0400
TZOFFSETTO:-0500
TZNAME:EST
DTSTART:20251102T060000
END:STANDARD
BEGIN:DAYLIGHT
TZOFFSETFROM:-0500
TZOFFSETTO:-0400
TZNAME:EDT
DTSTART:20260308T070000
END:DAYLIGHT
BEGIN:STANDARD
TZOFFSETFROM:-0400
TZOFFSETTO:-0500
TZNAME:EST
DTSTART:20261101T060000
END:STANDARD
BEGIN:DAYLIGHT
TZOFFSETFROM:-0500
TZOFFSETTO:-0400
TZNAME:EDT
DTSTART:20270314T070000
END:DAYLIGHT
BEGIN:STANDARD
TZOFFSETFROM:-0400
TZOFFSETTO:-0500
TZNAME:EST
DTSTART:20271107T060000
END:STANDARD
END:VTIMEZONE
BEGIN:VEVENT
DTSTART;TZID=America/New_York:20260329T091500
DTEND;TZID=America/New_York:20260329T102000
DTSTAMP:20260421T113932
CREATED:20260305T040809Z
LAST-MODIFIED:20260305T040809Z
UID:1121-1774775700-1774779600@lakeviewdundee.com
SUMMARY:Palm Sunday Breakfast
DESCRIPTION:Join us on March 29th morning for our Palm Sunday Breakfast! Start your day with a delicious breakfast at 9:15 AM\, followed by our main service at 10:30 AM. Please note that there will be no Sunday School classes that morning. No need to bring anything—just sign up in the foyer and join us for this special day!
URL:https://lakeviewdundee.com/event/palm-sunday-breakfast/
LOCATION:Lakeview Baptist Church\, 10202 State Route 93\, Dundee\, OH\, 44624\, United States
CATEGORIES:Special Service
ATTACH;FMTTYPE=image/jpeg:https://lakeviewdundee.com/wp-content/uploads/2023/03/pexels-thought-catalog-2228559.jpg
END:VEVENT
BEGIN:VEVENT
DTSTART;TZID=America/New_York:20251214T103000
DTEND;TZID=America/New_York:20251214T113000
DTSTAMP:20260421T113932
CREATED:20251025T173317Z
LAST-MODIFIED:20251025T173317Z
UID:1113-1765708200-1765711800@lakeviewdundee.com
SUMMARY:Christmas Worship Service
DESCRIPTION:Join us during our regular service time for a special Christmas celebration with Shelden Mencer! Enjoy uplifting music\, sing along with the congregation\, and reflect on the season through a short devotional message.
URL:https://lakeviewdundee.com/event/christmas-worship-service/
LOCATION:OH
CATEGORIES:Special Service
END:VEVENT
BEGIN:VEVENT
DTSTART;TZID=America/New_York:20251123T113000
DTEND;TZID=America/New_York:20251123T233000
DTSTAMP:20260421T113932
CREATED:20251025T172843Z
LAST-MODIFIED:20251025T173410Z
UID:1111-1763897400-1763940600@lakeviewdundee.com
SUMMARY:Baptism
DESCRIPTION:We will be having baptisms after the main service. If you are saved and interested in being baptized\, please see Pastor Zach
URL:https://lakeviewdundee.com/event/baptism/
LOCATION:Lakeview Baptist Church\, 10202 State Route 93\, Dundee\, OH\, 44624\, United States
CATEGORIES:Special Service
END:VEVENT
BEGIN:VEVENT
DTSTART;TZID=America/New_York:20250810T103000
DTEND;TZID=America/New_York:20250810T113000
DTSTAMP:20260421T113932
CREATED:20250730T220952Z
LAST-MODIFIED:20250730T221335Z
UID:1100-1754821800-1754825400@lakeviewdundee.com
SUMMARY:Pavillion Day
DESCRIPTION:Join us for an outside service with doughnuts and coffee! Note: There is no 9:45 service on August 10th.
URL:https://lakeviewdundee.com/event/pavillion-day/
LOCATION:OH
CATEGORIES:Special Service
END:VEVENT
BEGIN:VEVENT
DTSTART;TZID=America/New_York:20250420T091500
DTEND;TZID=America/New_York:20250420T102000
DTSTAMP:20260421T113932
CREATED:20250106T185814Z
LAST-MODIFIED:20250106T185814Z
UID:1052-1745140500-1745144400@lakeviewdundee.com
SUMMARY:Easter "Sonrise" Breakfast
DESCRIPTION:Join us this Easter morning for our Sonrise Breakfast! Start your day with a delicious breakfast at 9:15 AM\, followed by our main Easter service at 10:30 AM. Please note\, there will be no Sunday School classes that morning. No need to bring anything—just sign up in the foyer and join us for this special celebration!
URL:https://lakeviewdundee.com/event/easter-sonrise-breakfast/
LOCATION:Lakeview Baptist Church\, 10202 State Route 93\, Dundee\, OH\, 44624\, United States
CATEGORIES:Special Service
ATTACH;FMTTYPE=image/jpeg:https://lakeviewdundee.com/wp-content/uploads/2023/03/pexels-thought-catalog-2228559.jpg
END:VEVENT
BEGIN:VEVENT
DTSTART;TZID=America/New_York:20250223T103000
DTEND;TZID=America/New_York:20250223T103000
DTSTAMP:20260421T113932
CREATED:20250114T234658Z
LAST-MODIFIED:20250114T234658Z
UID:1062-1740306600-1740306600@lakeviewdundee.com
SUMMARY:Communion
DESCRIPTION:Join us as we partake of the Lords Supper.
URL:https://lakeviewdundee.com/event/communion-7/
LOCATION:OH
CATEGORIES:Special Service
ATTACH;FMTTYPE=image/jpeg:https://lakeviewdundee.com/wp-content/uploads/2025/01/CHSN-S5-5-scaled.jpg
END:VEVENT
BEGIN:VEVENT
DTSTART;TZID=America/New_York:20240721T103000
DTEND;TZID=America/New_York:20240721T103000
DTSTAMP:20260421T113932
CREATED:20240625T155730Z
LAST-MODIFIED:20240625T155730Z
UID:1031-1721557800-1721557800@lakeviewdundee.com
SUMMARY:Communion
DESCRIPTION:Join us as we partake of the Lords Supper.
URL:https://lakeviewdundee.com/event/communion-6/
LOCATION:OH
CATEGORIES:Special Service
END:VEVENT
BEGIN:VEVENT
DTSTART;TZID=America/New_York:20240331T091500
DTEND;TZID=America/New_York:20240331T102000
DTSTAMP:20260421T113932
CREATED:20240309T025438Z
LAST-MODIFIED:20240309T025749Z
UID:1014-1711876500-1711880400@lakeviewdundee.com
SUMMARY:Easter "Sonrise" Service
DESCRIPTION:Join us this Easter morning for our Sonrise Breakfast. There will be no Sunday School classes this morning. Instead\, we’ll start with breakfast at 9:15 am before we head into the main Easter service at 10:30. No need to bring a dish for this event. Just be sure to sign up in the foyer and bring yourself!
URL:https://lakeviewdundee.com/event/easter-sonrise-service-2/
LOCATION:Lakeview Baptist Church\, 10202 State Route 93\, Dundee\, OH\, 44624\, United States
CATEGORIES:Special Service
ATTACH;FMTTYPE=image/jpeg:https://lakeviewdundee.com/wp-content/uploads/2023/03/pexels-thought-catalog-2228559.jpg
END:VEVENT
BEGIN:VEVENT
DTSTART;TZID=America/New_York:20240324T103000
DTEND;TZID=America/New_York:20240324T103000
DTSTAMP:20260421T113932
CREATED:20240313T144733Z
LAST-MODIFIED:20240313T144733Z
UID:1026-1711276200-1711276200@lakeviewdundee.com
SUMMARY:Communion
DESCRIPTION:Join us as we partake of the Lords Supper.
URL:https://lakeviewdundee.com/event/communion-5/
LOCATION:OH
CATEGORIES:Special Service
END:VEVENT
BEGIN:VEVENT
DTSTART;TZID=America/New_York:20240211T103000
DTEND;TZID=America/New_York:20240211T113000
DTSTAMP:20260421T113932
CREATED:20240124T181044Z
LAST-MODIFIED:20240124T181044Z
UID:1005-1707647400-1707651000@lakeviewdundee.com
SUMMARY:Baptismal Service
DESCRIPTION:After the main service\, we will be performing baptisms. Please contact Pastor Shank if you are interested in being baptized.
URL:https://lakeviewdundee.com/event/baptismal-service/
LOCATION:Lakeview Baptist Church\, 10202 State Route 93\, Dundee\, OH\, 44624\, United States
CATEGORIES:Special Service
END:VEVENT
BEGIN:VEVENT
DTSTART;TZID=America/New_York:20231217T103000
DTEND;TZID=America/New_York:20231217T103000
DTSTAMP:20260421T113932
CREATED:20230927T142426Z
LAST-MODIFIED:20231126T143721Z
UID:939-1702809000-1702809000@lakeviewdundee.com
SUMMARY:Communion
DESCRIPTION:Join us as we partake of the Lords Supper.
URL:https://lakeviewdundee.com/event/communion-4/
LOCATION:OH
CATEGORIES:Special Service
END:VEVENT
BEGIN:VEVENT
DTSTART;TZID=America/New_York:20231119T103000
DTEND;TZID=America/New_York:20231119T103000
DTSTAMP:20260421T113932
CREATED:20230823T154052Z
LAST-MODIFIED:20230823T154052Z
UID:929-1700389800-1700389800@lakeviewdundee.com
SUMMARY:Communion
DESCRIPTION:
URL:https://lakeviewdundee.com/event/communion-3/
LOCATION:Lakeview Baptist Church\, 10202 State Route 93\, Dundee\, OH\, 44624\, United States
CATEGORIES:Special Service
END:VEVENT
BEGIN:VEVENT
DTSTART;TZID=America/New_York:20230917T103000
DTEND;TZID=America/New_York:20230917T103000
DTSTAMP:20260421T113932
CREATED:20220720T184229Z
LAST-MODIFIED:20230823T153834Z
UID:732-1694946600-1694946600@lakeviewdundee.com
SUMMARY:Communion
DESCRIPTION:
URL:https://lakeviewdundee.com/event/communion-2/
LOCATION:Lakeview Baptist Church\, 10202 State Route 93\, Dundee\, OH\, 44624\, United States
CATEGORIES:Special Service
END:VEVENT
BEGIN:VEVENT
DTSTART;TZID=America/New_York:20230820T103000
DTEND;TZID=America/New_York:20230820T103000
DTSTAMP:20260421T113932
CREATED:20230712T163937Z
LAST-MODIFIED:20230712T164009Z
UID:917-1692527400-1692527400@lakeviewdundee.com
SUMMARY:Pavilion Day (No Sunday School)
DESCRIPTION:Join us on August 20th for an outdoor service at our church pavilion with donuts and coffee!\n(There will be no 9:45 am services on August 20th)
URL:https://lakeviewdundee.com/event/pavilion-day-no-sunday-school-2/
LOCATION:Lakeview Baptist Church\, 10202 State Route 93\, Dundee\, OH\, 44624\, United States
CATEGORIES:Special Service
END:VEVENT
BEGIN:VEVENT
DTSTART;TZID=America/New_York:20230723T103000
DTEND;TZID=America/New_York:20230723T103000
DTSTAMP:20260421T113932
CREATED:20230510T175742Z
LAST-MODIFIED:20230510T175742Z
UID:911-1690108200-1690108200@lakeviewdundee.com
SUMMARY:Special Guest: Sheldon Mencer
DESCRIPTION:Sheldon Mencer will be joining us on July 23rd to share his vocal talents through special music. Come join us and be blessed through his signing ministry.
URL:https://lakeviewdundee.com/event/special-guest-sheldon-mencer/
LOCATION:Lakeview Baptist Church\, 10202 State Route 93\, Dundee\, OH\, 44624\, United States
CATEGORIES:Special Service
END:VEVENT
BEGIN:VEVENT
DTSTART;TZID=America/New_York:20230709T103000
DTEND;TZID=America/New_York:20230709T223000
DTSTAMP:20260421T113932
CREATED:20230621T183121Z
LAST-MODIFIED:20230621T183531Z
UID:914-1688898600-1688941800@lakeviewdundee.com
SUMMARY:Pavilion Day (No Sunday School)
DESCRIPTION:Join us on July 9th for an outdoor service at our church pavilion with donuts and coffee!\n(There will be no 9:45 am services on July 9th)
URL:https://lakeviewdundee.com/event/pavilion-day-no-sunday-school/
LOCATION:Lakeview Baptist Church\, 10202 State Route 93\, Dundee\, OH\, 44624\, United States
CATEGORIES:Special Service
END:VEVENT
BEGIN:VEVENT
DTSTART;TZID=America/New_York:20230409T103000
DTEND;TZID=America/New_York:20230409T233000
DTSTAMP:20260421T113932
CREATED:20230214T151327Z
LAST-MODIFIED:20230330T010730Z
UID:825-1681036200-1681083000@lakeviewdundee.com
SUMMARY:Easter Sunday Service
DESCRIPTION:Join us in celebrating Easter Sunday at Lakeview! This is a time of hope and renewal\, and we invite you to be a part of our community as we come together to honor this special day. Whether you’re a regular attendee or a newcomer\, everyone is welcome to reflect on the blessings of Christ in our lives. So\, gather your loved ones and come join us for a meaningful and memorable Easter Sunday. We can’t wait to see you there!
URL:https://lakeviewdundee.com/event/easter-sunday/
LOCATION:Lakeview Baptist Church\, 10202 State Route 93\, Dundee\, OH\, 44624\, United States
CATEGORIES:Special Service
END:VEVENT
BEGIN:VEVENT
DTSTART;TZID=America/New_York:20230409T083000
DTEND;TZID=America/New_York:20230409T220000
DTSTAMP:20260421T113932
CREATED:20230318T201919Z
LAST-MODIFIED:20230404T013507Z
UID:833-1681029000-1681077600@lakeviewdundee.com
SUMMARY:Easter "Sonrise" Service
DESCRIPTION:Celebrate the rising of the Son of God with a "Sonrise" breakfast and devotional time. We'll start with breakfast at 8:30 and have a short devotional before heading into the main Easter service in the auditorium at 10:30. No need to bring a dish for this event. Just sign up in and bring yourself
URL:https://lakeviewdundee.com/event/easter-sonrise-service/
LOCATION:Lakeview Baptist Church\, 10202 State Route 93\, Dundee\, OH\, 44624\, United States
CATEGORIES:Special Service
ATTACH;FMTTYPE=image/jpeg:https://lakeviewdundee.com/wp-content/uploads/2023/03/pexels-thought-catalog-2228559.jpg
END:VEVENT
BEGIN:VEVENT
DTSTART;TZID=America/New_York:20221225T103000
DTEND;TZID=America/New_York:20221225T103000
DTSTAMP:20260421T113932
CREATED:20220616T160250Z
LAST-MODIFIED:20221009T025723Z
UID:355-1671964200-1671964200@lakeviewdundee.com
SUMMARY:Christmas Day: No Sunday Morning Service | 10:30 Service Only
DESCRIPTION:Since we have a Christmas Eve service there will be no 9:45 Sunday School services today. \nMerry Christmas everyone!
URL:https://lakeviewdundee.com/event/christmas-day-no-sunday-morning-service-1030-service-only/
LOCATION:Lakeview Baptist Church\, 10202 State Route 93\, Dundee\, OH\, 44624\, United States
CATEGORIES:Special Service
END:VEVENT
BEGIN:VEVENT
DTSTART;TZID=America/New_York:20221113T223000
DTEND;TZID=America/New_York:20221113T223000
DTSTAMP:20260421T113932
CREATED:20220616T155659Z
LAST-MODIFIED:20220616T155659Z
UID:351-1668378600-1668378600@lakeviewdundee.com
SUMMARY:Veterans Service
DESCRIPTION:This Sunday we will be honoring our Veterans who have risked their lives in service to our country.
URL:https://lakeviewdundee.com/event/veterans-service/
LOCATION:Lakeview Baptist Church\, 10202 State Route 93\, Dundee\, OH\, 44624\, United States
CATEGORIES:Special Service
END:VEVENT
BEGIN:VEVENT
DTSTART;TZID=America/New_York:20221026T183000
DTEND;TZID=America/New_York:20221026T193000
DTSTAMP:20260421T113932
CREATED:20220616T155520Z
LAST-MODIFIED:20220616T155520Z
UID:349-1666809000-1666812600@lakeviewdundee.com
SUMMARY:Wednesday Evening Service
DESCRIPTION:Throughout October we will be having Wednesday night services. We hope to see you there!
URL:https://lakeviewdundee.com/event/wednesday-evening-service-7/
LOCATION:Lakeview Baptist Church\, 10202 State Route 93\, Dundee\, OH\, 44624\, United States
CATEGORIES:Special Service
END:VEVENT
BEGIN:VEVENT
DTSTART;TZID=America/New_York:20221019T183000
DTEND;TZID=America/New_York:20221019T193000
DTSTAMP:20260421T113932
CREATED:20220616T155459Z
LAST-MODIFIED:20220616T155459Z
UID:347-1666204200-1666207800@lakeviewdundee.com
SUMMARY:Wednesday Evening Service
DESCRIPTION:Throughout October we will be having Wednesday night services. We hope to see you there!
URL:https://lakeviewdundee.com/event/wednesday-evening-service-6/
LOCATION:Lakeview Baptist Church\, 10202 State Route 93\, Dundee\, OH\, 44624\, United States
CATEGORIES:Special Service
END:VEVENT
BEGIN:VEVENT
DTSTART;TZID=America/New_York:20221012T183000
DTEND;TZID=America/New_York:20221012T193000
DTSTAMP:20260421T113932
CREATED:20220616T155440Z
LAST-MODIFIED:20220616T155440Z
UID:345-1665599400-1665603000@lakeviewdundee.com
SUMMARY:Wednesday Evening Service
DESCRIPTION:Throughout October we will be having Wednesday night services. We hope to see you there!
URL:https://lakeviewdundee.com/event/wednesday-evening-service-5/
LOCATION:Lakeview Baptist Church\, 10202 State Route 93\, Dundee\, OH\, 44624\, United States
CATEGORIES:Special Service
END:VEVENT
BEGIN:VEVENT
DTSTART;TZID=America/New_York:20221005T183000
DTEND;TZID=America/New_York:20221005T193000
DTSTAMP:20260421T113932
CREATED:20220616T155418Z
LAST-MODIFIED:20220616T155418Z
UID:343-1664994600-1664998200@lakeviewdundee.com
SUMMARY:Wednesday Evening Service
DESCRIPTION:Throughout October we will be having Wednesday night services. We hope to see you there!
URL:https://lakeviewdundee.com/event/wednesday-evening-service-4/
LOCATION:Lakeview Baptist Church\, 10202 State Route 93\, Dundee\, OH\, 44624\, United States
CATEGORIES:Special Service
END:VEVENT
BEGIN:VEVENT
DTSTART;TZID=America/New_York:20220918T094500
DTEND;TZID=America/New_York:20220918T231500
DTSTAMP:20260421T113932
CREATED:20220616T154930Z
LAST-MODIFIED:20220616T154950Z
UID:334-1663494300-1663542900@lakeviewdundee.com
SUMMARY:Missions Sunday
DESCRIPTION:This Sunday we’ll be having a missionary guest joining us to preach and tell us about his ministry.
URL:https://lakeviewdundee.com/event/missionary-guest/
LOCATION:Lakeview Baptist Church\, 10202 State Route 93\, Dundee\, OH\, 44624\, United States
CATEGORIES:Special Service
END:VEVENT
BEGIN:VEVENT
DTSTART;TZID=America/New_York:20220727T183000
DTEND;TZID=America/New_York:20220727T193000
DTSTAMP:20260421T113932
CREATED:20220609T233521Z
LAST-MODIFIED:20220609T232947Z
UID:310-1658946600-1658950200@lakeviewdundee.com
SUMMARY:Wednesday Evening Service
DESCRIPTION:Throughout July we will be having Wednesday night services. We hope to see you there!
URL:https://lakeviewdundee.com/event/wednesday-evening-service-3/
LOCATION:Lakeview Baptist Church\, 10202 State Route 93\, Dundee\, OH\, 44624\, United States
CATEGORIES:Special Service
END:VEVENT
BEGIN:VEVENT
DTSTART;TZID=America/New_York:20220720T183000
DTEND;TZID=America/New_York:20220720T193000
DTSTAMP:20260421T113932
CREATED:20220609T233447Z
LAST-MODIFIED:20220609T232944Z
UID:308-1658341800-1658345400@lakeviewdundee.com
SUMMARY:Wednesday Evening Service
DESCRIPTION:Throughout July we will be having Wednesday night services. We hope to see you there!
URL:https://lakeviewdundee.com/event/wednesday-evening-service-2/
LOCATION:Lakeview Baptist Church\, 10202 State Route 93\, Dundee\, OH\, 44624\, United States
CATEGORIES:Special Service
END:VEVENT
BEGIN:VEVENT
DTSTART;TZID=America/New_York:20220713T183000
DTEND;TZID=America/New_York:20220713T193000
DTSTAMP:20260421T113932
CREATED:20220609T233430Z
LAST-MODIFIED:20220609T232940Z
UID:306-1657737000-1657740600@lakeviewdundee.com
SUMMARY:Wednesday Evening Service
DESCRIPTION:Throughout July we will be having Wednesday night services. We hope to see you there!
URL:https://lakeviewdundee.com/event/wednesday-evening-service/
LOCATION:Lakeview Baptist Church\, 10202 State Route 93\, Dundee\, OH\, 44624\, United States
CATEGORIES:Special Service
END:VEVENT
BEGIN:VEVENT
DTSTART;TZID=America/New_York:20220710T103000
DTEND;TZID=America/New_York:20220710T233000
DTSTAMP:20260421T113932
CREATED:20220609T233738Z
LAST-MODIFIED:20220609T233116Z
UID:312-1657449000-1657495800@lakeviewdundee.com
SUMMARY:Communion
DESCRIPTION:
URL:https://lakeviewdundee.com/event/communion/
LOCATION:Lakeview Baptist Church\, 10202 State Route 93\, Dundee\, OH\, 44624\, United States
CATEGORIES:Special Service
END:VEVENT
BEGIN:VEVENT
DTSTART;TZID=America/New_York:20220706T183000
DTEND;TZID=America/New_York:20220706T193000
DTSTAMP:20260421T113932
CREATED:20220609T232851Z
LAST-MODIFIED:20220609T233133Z
UID:297-1657132200-1657135800@lakeviewdundee.com
SUMMARY:Wednesday Evening Service
DESCRIPTION:Throughout July we will be having Wednesday night services. We hope to see you there!
URL:https://lakeviewdundee.com/event/wednesday-night-service/
LOCATION:Lakeview Baptist Church\, 10202 State Route 93\, Dundee\, OH\, 44624\, United States
CATEGORIES:Special Service
END:VEVENT
END:VCALENDAR